BEGIN:VCALENDAR
VERSION:2.0
PRODID:SchoolNow
CALSCALE:GREGORIAN
BEGIN:VEVENT
UID:471129a2-8f32-11f0-b2d9-02dcb6a3991b
DTSTAMP:20251216T214619Z
SUMMARY:ART Club Rm 162
URL;VALUE=URI:https://www.pjschools.org/schools/port-jervis-middle-school/c
 alendar/8609263/art-club-rm-162
DTSTART:20251106T192500Z
DTEND:20251106T201500Z
END:VEVENT
END:VCALENDAR
