BEGIN:VCALENDAR
VERSION:2.0
PRODID:SchoolNow
CALSCALE:GREGORIAN
BEGIN:VEVENT
UID:980ec7b4-46e5-11f0-82d1-0a58a9feac02
DTSTAMP:20260419T155010Z
SUMMARY:HS Report Cards distributed
URL;VALUE=URI:https://www.pjschools.org/schools/port-jervis-high-school/cal
 endar/8286809/hs-report-cards-distributed
DTSTART;VALUE=DATE:20260130
DTEND;VALUE=DATE:20260131
END:VEVENT
END:VCALENDAR
