BEGIN:VCALENDAR
VERSION:2.0
PRODID:SchoolNow
CALSCALE:GREGORIAN
BEGIN:VEVENT
UID:980ec606-46e5-11f0-ba78-0a58a9feac02
DTSTAMP:20260421T042007Z
SUMMARY:Board of Education Meeting
LOCATION:District Administration Building\, 150 Pike Street - Board of Educ
 ation Meeting Room
URL;VALUE=URI:https://www.pjschools.org/schools/port-jervis-high-school/cal
 endar/8286807/board-of-education-meeting
DTSTART:20260114T000000Z
DTEND:20260114T020000Z
END:VEVENT
END:VCALENDAR
