BEGIN:VCALENDAR
VERSION:2.0
PRODID:SchoolNow
CALSCALE:GREGORIAN
BEGIN:VEVENT
UID:980ec52a-46e5-11f0-a73c-0a58a9feac02
DTSTAMP:20260421T042007Z
SUMMARY:Winter Recess - NO SCHOOL
URL;VALUE=URI:https://www.pjschools.org/schools/port-jervis-high-school/cal
 endar/8286806/winter-recess-no-school
DTSTART;VALUE=DATE:20251222
DTEND;VALUE=DATE:20260103
END:VEVENT
END:VCALENDAR
