BEGIN:VCALENDAR
VERSION:2.0
PRODID:SchoolNow
CALSCALE:GREGORIAN
BEGIN:VEVENT
UID:f1912be6-d534-11f0-8977-0a58a9feac02
DTSTAMP:20251216T214615Z
SUMMARY:HBE PTA Family Fun Night - BINGO
LOCATION:Hamilton Bicentennial Elementary School\, 929 US-209\, Cuddebackvi
 lle\, NY 12729\, USA
URL;VALUE=URI:https://www.pjschools.org/schools/hamilton-bicentennial-eleme
 ntary-school/calendar/8820666/hbe-pta-family-fun-night-bingo
DTSTART:20260116T220000Z
DTEND:20260117T000000Z
END:VEVENT
END:VCALENDAR
