BEGIN:VCALENDAR
VERSION:2.0
PRODID:SchoolNow
CALSCALE:GREGORIAN
BEGIN:VEVENT
UID:7a0f00da-cad9-11f0-8b72-0a58a9feac02
DTSTAMP:20251216T214615Z
SUMMARY:HBE PTA Family Fun Night - Pancakes & Pajamas
LOCATION:Hamilton Bicentennial Elementary School\, 929 US-209\, Cuddebackvi
 lle\, NY 12729\, USA
URL;VALUE=URI:https://www.pjschools.org/schools/hamilton-bicentennial-eleme
 ntary-school/calendar/8810361/hbe-pta-family-fun-night-pancakes-pajamas
DTSTART:20251212T223000Z
DTEND:20251213T000000Z
END:VEVENT
END:VCALENDAR
