BEGIN:VCALENDAR
VERSION:2.0
PRODID:SchoolNow
CALSCALE:GREGORIAN
BEGIN:VEVENT
UID:ead67a72-97c2-11f0-99f4-0afffb2ad397
DTSTAMP:20251216T214615Z
SUMMARY:HBE PTA Family Fun Night - Trick-or-Treat the Halls
URL;VALUE=URI:https://www.pjschools.org/schools/hamilton-bicentennial-eleme
 ntary-school/calendar/8652234/hbe-pta-family-fun-night-trick-or-treat-the-
 halls
DTSTART:20251024T213000Z
DTEND:20251024T230000Z
END:VEVENT
END:VCALENDAR
