BEGIN:VCALENDAR
VERSION:2.0
PRODID:SchoolNow
CALSCALE:GREGORIAN
BEGIN:VEVENT
UID:13f168cc-787e-11f0-851e-0a58a9feac02
DTSTAMP:20251216T214615Z
SUMMARY:HBE PTA Meeting
LOCATION:Hamilton Bicentennial Elementary School\, 929 US-209\, Cuddebackvi
 lle\, NY 12729\, USA
URL;VALUE=URI:https://www.pjschools.org/schools/hamilton-bicentennial-eleme
 ntary-school/calendar/8505070/hbe-pta-meeting
DTSTART:20251120T230000Z
DTEND:20251121T000000Z
END:VEVENT
END:VCALENDAR
