BEGIN:VCALENDAR
VERSION:2.0
PRODID:SchoolNow
CALSCALE:GREGORIAN
BEGIN:VEVENT
UID:4934d7c6-7482-11f0-ab12-0a58a9feac02
DTSTAMP:20251216T214615Z
SUMMARY:HBE Open House (Grades 4-5)
URL;VALUE=URI:https://www.pjschools.org/schools/hamilton-bicentennial-eleme
 ntary-school/calendar/8483099/hbe-open-house-grades-4-5
DTSTART:20250923T230000Z
DTEND:20250924T000000Z
END:VEVENT
END:VCALENDAR
