BEGIN:VCALENDAR
VERSION:2.0
PRODID:SchoolNow
CALSCALE:GREGORIAN
BEGIN:VEVENT
UID:4934b91c-7482-11f0-80d1-0a58a9feac02
DTSTAMP:20251216T214615Z
SUMMARY:HBE Open House (Grades 1-3)
URL;VALUE=URI:https://www.pjschools.org/schools/hamilton-bicentennial-eleme
 ntary-school/calendar/8483098/hbe-open-house-grades-1-3
DTSTART:20250922T230000Z
DTEND:20250923T000000Z
END:VEVENT
END:VCALENDAR
