BEGIN:VCALENDAR
VERSION:2.0
PRODID:SchoolNow
CALSCALE:GREGORIAN
BEGIN:VEVENT
UID:47ebf3a2-60ca-11f0-b018-0a58a9feac02
DTSTAMP:20251216T214615Z
SUMMARY:HBE Pre-K and Kdg. Orientation
URL;VALUE=URI:https://www.pjschools.org/schools/hamilton-bicentennial-eleme
 ntary-school/calendar/8413369/hbe-pre-k-and-kdg-orientation
DTSTART:20250902T220000Z
DTEND:20250902T233000Z
END:VEVENT
END:VCALENDAR
